BEGIN:VCALENDAR
VERSION:2.0
PRODID:-//Spaarne College - ECPv6.8.2//NONSGML v1.0//EN
CALSCALE:GREGORIAN
METHOD:PUBLISH
X-WR-CALNAME:Spaarne College
X-ORIGINAL-URL:https://www.spaarnecollege.nl
X-WR-CALDESC:Evenementen voor Spaarne College
REFRESH-INTERVAL;VALUE=DURATION:PT1H
X-Robots-Tag:noindex
X-PUBLISHED-TTL:PT1H
BEGIN:VTIMEZONE
TZID:Europe/Amsterdam
BEGIN:DAYLIGHT
TZOFFSETFROM:+0100
TZOFFSETTO:+0200
TZNAME:CEST
DTSTART:20210328T010000
END:DAYLIGHT
BEGIN:STANDARD
TZOFFSETFROM:+0200
TZOFFSETTO:+0100
TZNAME:CET
DTSTART:20211031T010000
END:STANDARD
END:VTIMEZONE
BEGIN:VEVENT
DTSTART;TZID=Europe/Amsterdam:20210827T093000
DTEND;TZID=Europe/Amsterdam:20210827T130000
DTSTAMP:20260420T172312
CREATED:20210713T090128Z
LAST-MODIFIED:20210713T090128Z
UID:6224-1630056600-1630069200@www.spaarnecollege.nl
SUMMARY:Introductiedag leerjaar 3
DESCRIPTION:Onder leiding van deskundige instructeurs van Dynamique wordt de leerlingen per klas een sportieve\, avontuurlijke sportdag aangeboden. Centraal staat het teamwerk/samenwerking. In verschillende groepen worden opdrachten uitgevoerd. Het programma start om 09:30 uur en eindigt om uiterlijk 13:00 uur. \nProgramma:\n• We verwachten de leerlingen om 09:30 uur bij:\nDynamique\, locatie Paviljoen Loef\nMooie Nelpad 5\n2031 AK Haarlem \n• Iedere leerling heeft het volgende nodig:\n Drinken en misschien iets te eten voor tussendoor.\n Gemakkelijk zittende (sportieve) kleding\n Een set droge kleding\n (eventueel) zwemkleding\n Waterschoenen of andere schoenen die nat mogen worden\n Handdoek\n (eventueel) regenjack\nTevens gaan we ervan uit dat leerlingen in het bezit zijn van een zwemdiploma. Wanneer dit niet het geval is\, wilt u dit dan voorafgaand aan de introductiedag doorgeven aan ondergetekende? \n 
URL:https://www.spaarnecollege.nl/agenda/introductiedag-leerjaar-3/
CATEGORIES:Leerjaar 3
END:VEVENT
BEGIN:VEVENT
DTSTART;TZID=Europe/Amsterdam:20210826T135000
DTEND;TZID=Europe/Amsterdam:20210826T153000
DTSTAMP:20260420T172312
CREATED:20210713T080444Z
LAST-MODIFIED:20210818T091812Z
UID:6216-1629985800-1629991800@www.spaarnecollege.nl
SUMMARY:Introductie leerjaar 3
DESCRIPTION:De leerlingen van leerjaar 3 worden om 13:50 uur verwacht op school. De leerlingen verzamelen op de trap in de aula en gaan daarna met hun mentor mee. Waarbij ze kennis gaan maken met elkaar en uitleg krijgen over hun rooster\, het schooljaar en andere belangrijke zaken uit leerjaar 3. Uiterlijk om 15:30 uur is het programma afgelopen.
URL:https://www.spaarnecollege.nl/agenda/introductie-leerjaar-3/
CATEGORIES:Leerjaar 3
END:VEVENT
END:VCALENDAR