BEGIN:VCALENDAR
VERSION:2.0
PRODID:-//Spaarne College - ECPv6.8.2//NONSGML v1.0//EN
CALSCALE:GREGORIAN
METHOD:PUBLISH
X-WR-CALNAME:Spaarne College
X-ORIGINAL-URL:https://www.spaarnecollege.nl
X-WR-CALDESC:Evenementen voor Spaarne College
REFRESH-INTERVAL;VALUE=DURATION:PT1H
X-Robots-Tag:noindex
X-PUBLISHED-TTL:PT1H
BEGIN:VTIMEZONE
TZID:Europe/Amsterdam
BEGIN:DAYLIGHT
TZOFFSETFROM:+0100
TZOFFSETTO:+0200
TZNAME:CEST
DTSTART:20230326T010000
END:DAYLIGHT
BEGIN:STANDARD
TZOFFSETFROM:+0200
TZOFFSETTO:+0100
TZNAME:CET
DTSTART:20231029T010000
END:STANDARD
END:VTIMEZONE
BEGIN:VEVENT
DTSTART;TZID=Europe/Amsterdam:20230906T080000
DTEND;TZID=Europe/Amsterdam:20230906T170000
DTSTAMP:20260420T022813
CREATED:20230724T125025Z
LAST-MODIFIED:20230724T125025Z
UID:12823-1693987200-1694019600@www.spaarnecollege.nl
SUMMARY:Introductie programma
DESCRIPTION:Op woensdag 6 september start het introductieprogramma voor leerjaar 1\, 2\, 3 en 4.
URL:https://www.spaarnecollege.nl/agenda/introductie-programma/
CATEGORIES:Alle leerjaren
END:VEVENT
END:VCALENDAR