BEGIN:VCALENDAR
VERSION:2.0
PRODID:-//Spaarne College - ECPv6.8.2//NONSGML v1.0//EN
CALSCALE:GREGORIAN
METHOD:PUBLISH
X-ORIGINAL-URL:https://www.spaarnecollege.nl
X-WR-CALDESC:Evenementen voor Spaarne College
REFRESH-INTERVAL;VALUE=DURATION:PT1H
X-Robots-Tag:noindex
X-PUBLISHED-TTL:PT1H
BEGIN:VTIMEZONE
TZID:Europe/Amsterdam
BEGIN:DAYLIGHT
TZOFFSETFROM:+0100
TZOFFSETTO:+0200
TZNAME:CEST
DTSTART:20210328T010000
END:DAYLIGHT
BEGIN:STANDARD
TZOFFSETFROM:+0200
TZOFFSETTO:+0100
TZNAME:CET
DTSTART:20211031T010000
END:STANDARD
BEGIN:DAYLIGHT
TZOFFSETFROM:+0100
TZOFFSETTO:+0200
TZNAME:CEST
DTSTART:20220327T010000
END:DAYLIGHT
BEGIN:STANDARD
TZOFFSETFROM:+0200
TZOFFSETTO:+0100
TZNAME:CET
DTSTART:20221030T010000
END:STANDARD
END:VTIMEZONE
BEGIN:VEVENT
DTSTART;VALUE=DATE:20220214
DTEND;VALUE=DATE:20220218
DTSTAMP:20260419T230916
CREATED:20210713T120816Z
LAST-MODIFIED:20220209T115835Z
UID:6347-1644796800-1645142399@www.spaarnecollege.nl
SUMMARY:Inschrijving herkansing periode 2 LJ 3
DESCRIPTION:Op maandag 14 februari start de inschrijving voor herkansingen in periode 2 voor leerjaar 3 vanaf 08:00 tot donderdag 17 februari 17:00 uur.
URL:https://www.spaarnecollege.nl/agenda/inschrijving-herkansing-periode-2-lj-3/
CATEGORIES:Leerjaar 3
END:VEVENT
BEGIN:VEVENT
DTSTART;TZID=Europe/Amsterdam:20211129T080000
DTEND;TZID=Europe/Amsterdam:20211202T170000
DTSTAMP:20260419T230916
CREATED:20210713T112128Z
LAST-MODIFIED:20210713T112128Z
UID:6316-1638172800-1638464400@www.spaarnecollege.nl
SUMMARY:Inschrijving herkansing lj 4
DESCRIPTION:Op maandag 29 november start de inschrijving voor herkansingen voor leerjaar 4 periode 1 vanaf 08:00 tot donderdag 2 december 17:00 uur.
URL:https://www.spaarnecollege.nl/agenda/inschrijving-herkansing-lj-4/
CATEGORIES:Leerjaar 4
END:VEVENT
END:VCALENDAR