BEGIN:VCALENDAR
VERSION:2.0
PRODID:-//Spaarne College - ECPv6.8.2//NONSGML v1.0//EN
CALSCALE:GREGORIAN
METHOD:PUBLISH
X-WR-CALNAME:Spaarne College
X-ORIGINAL-URL:https://www.spaarnecollege.nl
X-WR-CALDESC:Evenementen voor Spaarne College
REFRESH-INTERVAL;VALUE=DURATION:PT1H
X-Robots-Tag:noindex
X-PUBLISHED-TTL:PT1H
BEGIN:VTIMEZONE
TZID:Europe/Amsterdam
BEGIN:DAYLIGHT
TZOFFSETFROM:+0100
TZOFFSETTO:+0200
TZNAME:CEST
DTSTART:20250330T010000
END:DAYLIGHT
BEGIN:STANDARD
TZOFFSETFROM:+0200
TZOFFSETTO:+0100
TZNAME:CET
DTSTART:20251026T010000
END:STANDARD
END:VTIMEZONE
BEGIN:VEVENT
DTSTART;TZID=Europe/Amsterdam:20250305T170000
DTEND;TZID=Europe/Amsterdam:20250305T190000
DTSTAMP:20260423T135836
CREATED:20250210T153036Z
LAST-MODIFIED:20250210T153036Z
UID:17332-1741194000-1741201200@www.spaarnecollege.nl
SUMMARY:Restaurantavond
DESCRIPTION:Mogen wij u binnenkort verwelkomen in ons schoolrestaurant? Waar onze vierdejaars leerlingen van het profiel Horeca\, Bakkerij en Recreatie voor u zullen koken en u zullen bedienen. Wij zien uw reservering graag tegemoet.
URL:https://www.spaarnecollege.nl/agenda/restaurantavond/2025-03-05/
CATEGORIES:Feestelijke activiteiten
ATTACH;FMTTYPE=image/jpeg:https://www.spaarnecollege.nl/wp-content/uploads/2025/02/SpaarneRestaurant-121.jpg
END:VEVENT
BEGIN:VEVENT
DTSTART;TZID=Europe/Amsterdam:20250310T080000
DTEND;TZID=Europe/Amsterdam:20250314T170000
DTSTAMP:20260423T135836
CREATED:20250304T155504Z
LAST-MODIFIED:20250304T155504Z
UID:17334-1741593600-1741971600@www.spaarnecollege.nl
SUMMARY:Mogelijkheid inhalen cito 2
DESCRIPTION:Mogelijkheid om cito 2 in te halen voor leerlingen uit leerjaar 2.
URL:https://www.spaarnecollege.nl/agenda/mogelijkheid-inhalen-cito-2/
CATEGORIES:Leerjaar 2
END:VEVENT
BEGIN:VEVENT
DTSTART;TZID=Europe/Amsterdam:20250310T080000
DTEND;TZID=Europe/Amsterdam:20250328T170000
DTSTAMP:20260423T135836
CREATED:20250304T155702Z
LAST-MODIFIED:20250304T155702Z
UID:17336-1741593600-1743181200@www.spaarnecollege.nl
SUMMARY:Inschrijven voor meilessen (examentraining)
DESCRIPTION:Vanaf maandag 10 maart tot en met vrijdag 28 maart kunnen examenleerlingen zich inschrijven voor de meilessen die plaatsvinden in de meivakantie. Ter voorbereiding op het centraal examen.
URL:https://www.spaarnecollege.nl/agenda/inschrijven-voor-meilessen-examentraining/
CATEGORIES:Eindexamen
END:VEVENT
BEGIN:VEVENT
DTSTART;TZID=Europe/Amsterdam:20250311T183000
DTEND;TZID=Europe/Amsterdam:20250311T193000
DTSTAMP:20260423T135836
CREATED:20250210T155521Z
LAST-MODIFIED:20250306T130437Z
UID:17171-1741717800-1741721400@www.spaarnecollege.nl
SUMMARY:Ouderavond examens
DESCRIPTION:
URL:https://www.spaarnecollege.nl/agenda/ouderavond-examens/
CATEGORIES:Eindexamen,Leerjaar 4
END:VEVENT
BEGIN:VEVENT
DTSTART;TZID=Europe/Amsterdam:20250312T170000
DTEND;TZID=Europe/Amsterdam:20250312T190000
DTSTAMP:20260423T135836
CREATED:20250210T153036Z
LAST-MODIFIED:20250210T153036Z
UID:17333-1741798800-1741806000@www.spaarnecollege.nl
SUMMARY:Restaurantavond
DESCRIPTION:Mogen wij u binnenkort verwelkomen in ons schoolrestaurant? Waar onze vierdejaars leerlingen van het profiel Horeca\, Bakkerij en Recreatie voor u zullen koken en u zullen bedienen. Wij zien uw reservering graag tegemoet.
URL:https://www.spaarnecollege.nl/agenda/restaurantavond/2025-03-12/
CATEGORIES:Feestelijke activiteiten
ATTACH;FMTTYPE=image/jpeg:https://www.spaarnecollege.nl/wp-content/uploads/2025/02/SpaarneRestaurant-121.jpg
END:VEVENT
BEGIN:VEVENT
DTSTART;TZID=Europe/Amsterdam:20250325T080000
DTEND;TZID=Europe/Amsterdam:20250331T170000
DTSTAMP:20260423T135836
CREATED:20240715T124915Z
LAST-MODIFIED:20240715T124915Z
UID:15329-1742889600-1743440400@www.spaarnecollege.nl
SUMMARY:Aanmeldweek leerlingen schooljaar '25-'26
DESCRIPTION:Wat leuk dat jij je bij ons op school wilt aanmelden. Dat kan in deze week (25 maart t/m 31 maart 2025). \nOp deze pagina lees je meer over ons aanmeldproces. \nHeb je nog vragen of onduidelijkheden? Bezoek een van onze informatieavonden\, proeflesmiddagen of open dagen óf neem contact op met onze school.
URL:https://www.spaarnecollege.nl/agenda/aanmeldweek-leerlingen-schooljaar-25-26/
CATEGORIES:groep 8
END:VEVENT
END:VCALENDAR