BEGIN:VCALENDAR
VERSION:2.0
PRODID:-//Spaarne College - ECPv6.8.2//NONSGML v1.0//EN
CALSCALE:GREGORIAN
METHOD:PUBLISH
X-ORIGINAL-URL:https://www.spaarnecollege.nl
X-WR-CALDESC:Evenementen voor Spaarne College
REFRESH-INTERVAL;VALUE=DURATION:PT1H
X-Robots-Tag:noindex
X-PUBLISHED-TTL:PT1H
BEGIN:VTIMEZONE
TZID:Europe/Amsterdam
BEGIN:DAYLIGHT
TZOFFSETFROM:+0100
TZOFFSETTO:+0200
TZNAME:CEST
DTSTART:20240331T010000
END:DAYLIGHT
BEGIN:STANDARD
TZOFFSETFROM:+0200
TZOFFSETTO:+0100
TZNAME:CET
DTSTART:20241027T010000
END:STANDARD
END:VTIMEZONE
BEGIN:VEVENT
DTSTART;TZID=Europe/Amsterdam:20241119T150000
DTEND;TZID=Europe/Amsterdam:20241119T163000
DTSTAMP:20260423T192615
CREATED:20201022T100236Z
LAST-MODIFIED:20240711T125335Z
UID:12952-1732028400-1732033800@www.spaarnecollege.nl
SUMMARY:Proeflesmiddag
DESCRIPTION:Dit schooljaar organiseren wij op dinsdag 19 november (15:00 – 16:30 uur) én op donderdag 21 november (15:00 – 16:30 uur) proeflesmiddagen. Meld je aan voor de proeflesmiddag.
URL:https://www.spaarnecollege.nl/agenda/proeflesmiddag-2024-11-21/2024-11-19/
LOCATION:Spaarne College
CATEGORIES:groep 8
END:VEVENT
BEGIN:VEVENT
DTSTART;TZID=Europe/Amsterdam:20241121T150000
DTEND;TZID=Europe/Amsterdam:20241121T163000
DTSTAMP:20260423T192615
CREATED:20201022T100236Z
LAST-MODIFIED:20240711T125519Z
UID:2940-1732201200-1732206600@www.spaarnecollege.nl
SUMMARY:Proeflesmiddag
DESCRIPTION:Dit schooljaar organiseren wij op dinsdag 19 november (15:00 – 16:30 uur) én op donderdag 21 november (15:00 – 16:30 uur) proeflesmiddagen. Meld je aan voor de proeflesmiddag.
URL:https://www.spaarnecollege.nl/agenda/proeflesmiddag-2024-11-21/2024-11-21/
LOCATION:Spaarne College
CATEGORIES:groep 8
END:VEVENT
END:VCALENDAR