BEGIN:VCALENDAR
VERSION:2.0
PRODID:-//Spaarne College - ECPv6.8.2//NONSGML v1.0//EN
CALSCALE:GREGORIAN
METHOD:PUBLISH
X-ORIGINAL-URL:https://www.spaarnecollege.nl
X-WR-CALDESC:Evenementen voor Spaarne College
REFRESH-INTERVAL;VALUE=DURATION:PT1H
X-Robots-Tag:noindex
X-PUBLISHED-TTL:PT1H
BEGIN:VTIMEZONE
TZID:Europe/Amsterdam
BEGIN:DAYLIGHT
TZOFFSETFROM:+0100
TZOFFSETTO:+0200
TZNAME:CEST
DTSTART:20240331T010000
END:DAYLIGHT
BEGIN:STANDARD
TZOFFSETFROM:+0200
TZOFFSETTO:+0100
TZNAME:CET
DTSTART:20241027T010000
END:STANDARD
END:VTIMEZONE
BEGIN:VEVENT
DTSTART;TZID=Europe/Amsterdam:20240917T190000
DTEND;TZID=Europe/Amsterdam:20240917T213000
DTSTAMP:20260423T225645
CREATED:20230724T125231Z
LAST-MODIFIED:20240711T124738Z
UID:12825-1726599600-1726608600@www.spaarnecollege.nl
SUMMARY:Informatieavond leerjaar 1
DESCRIPTION:Op deze dag vindt de informatieavond voor ouders van leerjaar 1-leerlingen plaats.
URL:https://www.spaarnecollege.nl/agenda/informatieavond-leerjaar-1/
LOCATION:Spaarne College
CATEGORIES:Leerjaar 1
END:VEVENT
BEGIN:VEVENT
DTSTART;TZID=Europe/Amsterdam:20240918T190000
DTEND;TZID=Europe/Amsterdam:20240918T203000
DTSTAMP:20260423T225645
CREATED:20230724T125441Z
LAST-MODIFIED:20240711T124509Z
UID:12829-1726686000-1726691400@www.spaarnecollege.nl
SUMMARY:Informatieavond leerjaar 3
DESCRIPTION:Op deze dag vindt de informatieavond voor ouders van leerjaar 3-leerlingen plaats.
URL:https://www.spaarnecollege.nl/agenda/informatieavond-leerjaar-3/
LOCATION:Spaarne College
CATEGORIES:Leerjaar 3
END:VEVENT
BEGIN:VEVENT
DTSTART;TZID=Europe/Amsterdam:20240924T190000
DTEND;TZID=Europe/Amsterdam:20240924T203000
DTSTAMP:20260423T225645
CREATED:20230724T125327Z
LAST-MODIFIED:20240711T124610Z
UID:12827-1727204400-1727209800@www.spaarnecollege.nl
SUMMARY:Informatieavond leerjaar 2
DESCRIPTION:Op deze dag vindt de informatieavond voor ouders van leerjaar 2-leerlingen plaats.
URL:https://www.spaarnecollege.nl/agenda/informatieavond-leerjaar-2/
LOCATION:Spaarne College
CATEGORIES:Leerjaar 2
END:VEVENT
END:VCALENDAR