BEGIN:VCALENDAR
VERSION:2.0
PRODID:-//Spaarne College - ECPv6.8.2//NONSGML v1.0//EN
CALSCALE:GREGORIAN
METHOD:PUBLISH
X-WR-CALNAME:Spaarne College
X-ORIGINAL-URL:https://www.spaarnecollege.nl
X-WR-CALDESC:Evenementen voor Spaarne College
REFRESH-INTERVAL;VALUE=DURATION:PT1H
X-Robots-Tag:noindex
X-PUBLISHED-TTL:PT1H
BEGIN:VTIMEZONE
TZID:Europe/Amsterdam
BEGIN:DAYLIGHT
TZOFFSETFROM:+0100
TZOFFSETTO:+0200
TZNAME:CEST
DTSTART:20240331T010000
END:DAYLIGHT
BEGIN:STANDARD
TZOFFSETFROM:+0200
TZOFFSETTO:+0100
TZNAME:CET
DTSTART:20241027T010000
END:STANDARD
END:VTIMEZONE
BEGIN:VEVENT
DTSTART;VALUE=DATE:20240521
DTEND;VALUE=DATE:20240608
DTSTAMP:20260424T043513
CREATED:20240418T082502Z
LAST-MODIFIED:20240603T110840Z
UID:12603-1716249600-1717804799@www.spaarnecollege.nl
SUMMARY:Praktijkexamens BWI
DESCRIPTION:Vanaf dinsdag 21 mei tot en met vrijdag 7 juni vinden de praktijkexamens van de afdeling Bouwen\, wonen & interieur plaats.
URL:https://www.spaarnecollege.nl/agenda/praktijkexamens-bouwen-wonen-en-interieur/
CATEGORIES:Eindexamen
END:VEVENT
BEGIN:VEVENT
DTSTART;VALUE=DATE:20240522
DTEND;VALUE=DATE:20240608
DTSTAMP:20260424T043513
CREATED:20240418T081050Z
LAST-MODIFIED:20240603T110851Z
UID:12590-1716336000-1717804799@www.spaarnecollege.nl
SUMMARY:Praktijkexamens HBR
DESCRIPTION:Vanaf woensdag 22 mei tot en met vrijdag 7 juni vinden de praktijkexamens van Horeca\, bakkerij en recreatie plaats.
URL:https://www.spaarnecollege.nl/agenda/praktijkexamens-horeca-bakkerij-en-recreatie/
CATEGORIES:Eindexamen
END:VEVENT
BEGIN:VEVENT
DTSTART;VALUE=DATE:20240527
DTEND;VALUE=DATE:20240608
DTSTAMP:20260424T043513
CREATED:20240418T081243Z
LAST-MODIFIED:20240603T110848Z
UID:12592-1716768000-1717804799@www.spaarnecollege.nl
SUMMARY:Praktijkexamens Z&W
DESCRIPTION:Vanaf maandag 27 mei tot en met vrijdag 9 juni vinden de praktijkexamens van Zorg en welzijn plaats.
URL:https://www.spaarnecollege.nl/agenda/praktijkexamens-zorg-en-welzijn/
CATEGORIES:Eindexamen
END:VEVENT
BEGIN:VEVENT
DTSTART;VALUE=DATE:20240527
DTEND;VALUE=DATE:20240608
DTSTAMP:20260424T043513
CREATED:20240418T081727Z
LAST-MODIFIED:20240603T110845Z
UID:12594-1716768000-1717804799@www.spaarnecollege.nl
SUMMARY:Praktijkexamens Groen
DESCRIPTION:Vanaf maandag 27 mei tot en met vrijdag 7 juni vinden de praktijkexamens van Groen plaats.
URL:https://www.spaarnecollege.nl/agenda/praktijkexamens-groen/
CATEGORIES:Eindexamen
END:VEVENT
BEGIN:VEVENT
DTSTART;VALUE=DATE:20240527
DTEND;VALUE=DATE:20240608
DTSTAMP:20260424T043513
CREATED:20240418T082315Z
LAST-MODIFIED:20240603T110842Z
UID:12599-1716768000-1717804799@www.spaarnecollege.nl
SUMMARY:Praktijkexamens E&O
DESCRIPTION:Vanaf maandag 27 mei tot en met vrijdag 7 juni vinden de praktijkexamens van Economie en ondernemen plaats.
URL:https://www.spaarnecollege.nl/agenda/praktijkexamens-economie-en-ondernemen/
CATEGORIES:Eindexamen
END:VEVENT
BEGIN:VEVENT
DTSTART;TZID=Europe/Amsterdam:20240611T080000
DTEND;TZID=Europe/Amsterdam:20240613T170000
DTSTAMP:20260424T043513
CREATED:20210831T065514Z
LAST-MODIFIED:20240523T075153Z
UID:6521-1718092800-1718298000@www.spaarnecollege.nl
SUMMARY:Cito 1
DESCRIPTION:Op dinsdag 11 t/m donderdag 13 juni vindt Cito 1 plaats voor alle leerlingen uit het eerste leerjaar. Meer informatie volgt te zijner tijd.
URL:https://www.spaarnecollege.nl/agenda/cito-1/
CATEGORIES:Leerjaar 1
END:VEVENT
BEGIN:VEVENT
DTSTART;TZID=Europe/Amsterdam:20240611T143000
DTEND;TZID=Europe/Amsterdam:20240611T153000
DTSTAMP:20260424T043513
CREATED:20231107T100207Z
LAST-MODIFIED:20250911T112114Z
UID:14675-1718116200-1718119800@www.spaarnecollege.nl
SUMMARY:Spaarne Influencers bijeenkomst
DESCRIPTION:De onder- en bovenbouw leden van de Spaarne Influencers komen vandaag samen om te praten over aankomende evenementen\, hun rol hierin en zij brainstormen over nieuwe ideeën om de school net een beetje leuker\, fijner en mooier te maken.
URL:https://www.spaarnecollege.nl/agenda/spaarne-influencers-bijeenkomst/2024-06-11/
CATEGORIES:Alle leerjaren
END:VEVENT
BEGIN:VEVENT
DTSTART;TZID=Europe/Amsterdam:20240626T160000
DTEND;TZID=Europe/Amsterdam:20240626T173000
DTSTAMP:20260424T043513
CREATED:20230918T142000Z
LAST-MODIFIED:20230918T142105Z
UID:13113-1719417600-1719423000@www.spaarnecollege.nl
SUMMARY:Ouderadviesraad
DESCRIPTION:De ouderadviesraad vergadert vandaag van 16:00 tot 17:30 uur.
URL:https://www.spaarnecollege.nl/agenda/ouderadviesraad/2024-06-26/
CATEGORIES:Alle leerjaren
END:VEVENT
END:VCALENDAR