BEGIN:VCALENDAR
VERSION:2.0
PRODID:-//Spaarne College - ECPv6.8.2//NONSGML v1.0//EN
CALSCALE:GREGORIAN
METHOD:PUBLISH
X-ORIGINAL-URL:https://www.spaarnecollege.nl
X-WR-CALDESC:Evenementen voor Spaarne College
REFRESH-INTERVAL;VALUE=DURATION:PT1H
X-Robots-Tag:noindex
X-PUBLISHED-TTL:PT1H
BEGIN:VTIMEZONE
TZID:Europe/Amsterdam
BEGIN:DAYLIGHT
TZOFFSETFROM:+0100
TZOFFSETTO:+0200
TZNAME:CEST
DTSTART:20230326T010000
END:DAYLIGHT
BEGIN:STANDARD
TZOFFSETFROM:+0200
TZOFFSETTO:+0100
TZNAME:CET
DTSTART:20231029T010000
END:STANDARD
BEGIN:DAYLIGHT
TZOFFSETFROM:+0100
TZOFFSETTO:+0200
TZNAME:CEST
DTSTART:20240331T010000
END:DAYLIGHT
BEGIN:STANDARD
TZOFFSETFROM:+0200
TZOFFSETTO:+0100
TZNAME:CET
DTSTART:20241027T010000
END:STANDARD
END:VTIMEZONE
BEGIN:VEVENT
DTSTART;VALUE=DATE:20230914
DTEND;VALUE=DATE:20240419
DTSTAMP:20260424T100432
CREATED:20230912T100257Z
LAST-MODIFIED:20230918T140923Z
UID:13006-1694649600-1713484799@www.spaarnecollege.nl
SUMMARY:Lintstage lj 4 basis
DESCRIPTION:De lintstage voor leerjaar 4 basis vindt elke donderdag plaats van 14 september 2023 tot en met 18 april 2024 (schoolvakanties uitgezonderd).
URL:https://www.spaarnecollege.nl/agenda/lintstage-lj-4-basis/
CATEGORIES:Leerjaar 4
END:VEVENT
BEGIN:VEVENT
DTSTART;TZID=Europe/Amsterdam:20240305T080000
DTEND;TZID=Europe/Amsterdam:20240307T170000
DTSTAMP:20260424T100432
CREATED:20240227T092920Z
LAST-MODIFIED:20240227T092920Z
UID:14426-1709625600-1709830800@www.spaarnecollege.nl
SUMMARY:Cito afname lj 2
DESCRIPTION:In deze periode wordt de Cito afgenomen in leerjaar 2.
URL:https://www.spaarnecollege.nl/agenda/cito-afname-lj-2/
CATEGORIES:Leerjaar 2
END:VEVENT
BEGIN:VEVENT
DTSTART;VALUE=DATE:20240329
DTEND;VALUE=DATE:20240330
DTSTAMP:20260424T100432
CREATED:20230313T154959Z
LAST-MODIFIED:20230918T145805Z
UID:12316-1711670400-1711756799@www.spaarnecollege.nl
SUMMARY:Goede Vrijdag - vrij
DESCRIPTION:Goede Vrijdag is dit schooljaar een vrije dag.
URL:https://www.spaarnecollege.nl/agenda/goede-vrijdag-2/
LOCATION:Spaarne College
CATEGORIES:Alle leerjaren,Vakantie
END:VEVENT
END:VCALENDAR