BEGIN:VCALENDAR
VERSION:2.0
PRODID:-//Spaarne College - ECPv6.8.2//NONSGML v1.0//EN
CALSCALE:GREGORIAN
METHOD:PUBLISH
X-WR-CALNAME:Spaarne College
X-ORIGINAL-URL:https://www.spaarnecollege.nl
X-WR-CALDESC:Evenementen voor Spaarne College
REFRESH-INTERVAL;VALUE=DURATION:PT1H
X-Robots-Tag:noindex
X-PUBLISHED-TTL:PT1H
BEGIN:VTIMEZONE
TZID:Europe/Amsterdam
BEGIN:DAYLIGHT
TZOFFSETFROM:+0100
TZOFFSETTO:+0200
TZNAME:CEST
DTSTART:20230326T010000
END:DAYLIGHT
BEGIN:STANDARD
TZOFFSETFROM:+0200
TZOFFSETTO:+0100
TZNAME:CET
DTSTART:20231029T010000
END:STANDARD
BEGIN:DAYLIGHT
TZOFFSETFROM:+0100
TZOFFSETTO:+0200
TZNAME:CEST
DTSTART:20240331T010000
END:DAYLIGHT
BEGIN:STANDARD
TZOFFSETFROM:+0200
TZOFFSETTO:+0100
TZNAME:CET
DTSTART:20241027T010000
END:STANDARD
END:VTIMEZONE
BEGIN:VEVENT
DTSTART;VALUE=DATE:20230914
DTEND;VALUE=DATE:20240419
DTSTAMP:20260424T115553
CREATED:20230912T100257Z
LAST-MODIFIED:20230918T140923Z
UID:13006-1694649600-1713484799@www.spaarnecollege.nl
SUMMARY:Lintstage lj 4 basis
DESCRIPTION:De lintstage voor leerjaar 4 basis vindt elke donderdag plaats van 14 september 2023 tot en met 18 april 2024 (schoolvakanties uitgezonderd).
URL:https://www.spaarnecollege.nl/agenda/lintstage-lj-4-basis/
CATEGORIES:Leerjaar 4
END:VEVENT
BEGIN:VEVENT
DTSTART;VALUE=DATE:20240212
DTEND;VALUE=DATE:20240217
DTSTAMP:20260424T115553
CREATED:20230918T142924Z
LAST-MODIFIED:20230918T142924Z
UID:13124-1707696000-1708127999@www.spaarnecollege.nl
SUMMARY:Week van de Liefde
DESCRIPTION:De Gezonde School organiseert ieder jaar de Week van de Liefde waar thema’s als seksualiteit en relaties centraal staan. Wij doen hier als school actief aan mee. T.z.t. volgt ons programma.
URL:https://www.spaarnecollege.nl/agenda/week-van-de-liefde/
CATEGORIES:Alle leerjaren,Feestelijke activiteiten
END:VEVENT
BEGIN:VEVENT
DTSTART;TZID=Europe/Amsterdam:20240228T173000
DTEND;TZID=Europe/Amsterdam:20240228T210000
DTSTAMP:20260424T115553
CREATED:20230918T145142Z
LAST-MODIFIED:20230918T145142Z
UID:13126-1709141400-1709154000@www.spaarnecollege.nl
SUMMARY:Mbo markt lj 3
DESCRIPTION:Mbo markt voor leerjaar 3. Meer informatie volgt t.z.t.
URL:https://www.spaarnecollege.nl/agenda/mbo-markt-lj-3/
CATEGORIES:Leerjaar 3
END:VEVENT
END:VCALENDAR