BEGIN:VCALENDAR
VERSION:2.0
PRODID:-//Spaarne College - ECPv6.8.2//NONSGML v1.0//EN
CALSCALE:GREGORIAN
METHOD:PUBLISH
X-WR-CALNAME:Spaarne College
X-ORIGINAL-URL:https://www.spaarnecollege.nl
X-WR-CALDESC:Evenementen voor Spaarne College
REFRESH-INTERVAL;VALUE=DURATION:PT1H
X-Robots-Tag:noindex
X-PUBLISHED-TTL:PT1H
BEGIN:VTIMEZONE
TZID:Europe/Amsterdam
BEGIN:DAYLIGHT
TZOFFSETFROM:+0100
TZOFFSETTO:+0200
TZNAME:CEST
DTSTART:20260329T010000
END:DAYLIGHT
BEGIN:STANDARD
TZOFFSETFROM:+0200
TZOFFSETTO:+0100
TZNAME:CET
DTSTART:20261025T010000
END:STANDARD
END:VTIMEZONE
BEGIN:VEVENT
DTSTART;VALUE=DATE:20260702
DTEND;VALUE=DATE:20260703
DTSTAMP:20260422T212229
CREATED:20250108T142707Z
LAST-MODIFIED:20250911T115725Z
UID:12558-1782950400-1783036799@www.spaarnecollege.nl
SUMMARY:Personeelsdag
DESCRIPTION:Vandaag hebben we een ontspannen personeelsdag met alle personeelsleden. De school is gesloten.
URL:https://www.spaarnecollege.nl/agenda/personeelsdag/
CATEGORIES:Feestelijke activiteiten,Vakantie
END:VEVENT
BEGIN:VEVENT
DTSTART;TZID=Europe/Amsterdam:20260704T080000
DTEND;TZID=Europe/Amsterdam:20260816T170000
DTSTAMP:20260422T212229
CREATED:20250512T080246Z
LAST-MODIFIED:20250512T080246Z
UID:18029-1783152000-1786899600@www.spaarnecollege.nl
SUMMARY:Zomervakantie
DESCRIPTION:
URL:https://www.spaarnecollege.nl/agenda/zomervakantie-2/
CATEGORIES:Alle leerjaren,Vakantie
END:VEVENT
END:VCALENDAR