BEGIN:VCALENDAR
VERSION:2.0
PRODID:-//Spaarne College - ECPv6.8.2//NONSGML v1.0//EN
CALSCALE:GREGORIAN
METHOD:PUBLISH
X-WR-CALNAME:Spaarne College
X-ORIGINAL-URL:https://www.spaarnecollege.nl
X-WR-CALDESC:Evenementen voor Spaarne College
REFRESH-INTERVAL;VALUE=DURATION:PT1H
X-Robots-Tag:noindex
X-PUBLISHED-TTL:PT1H
BEGIN:VTIMEZONE
TZID:Europe/Amsterdam
BEGIN:DAYLIGHT
TZOFFSETFROM:+0100
TZOFFSETTO:+0200
TZNAME:CEST
DTSTART:20200329T010000
END:DAYLIGHT
BEGIN:STANDARD
TZOFFSETFROM:+0200
TZOFFSETTO:+0100
TZNAME:CET
DTSTART:20201025T010000
END:STANDARD
BEGIN:DAYLIGHT
TZOFFSETFROM:+0100
TZOFFSETTO:+0200
TZNAME:CEST
DTSTART:20210328T010000
END:DAYLIGHT
BEGIN:STANDARD
TZOFFSETFROM:+0200
TZOFFSETTO:+0100
TZNAME:CET
DTSTART:20211031T010000
END:STANDARD
END:VTIMEZONE
BEGIN:VEVENT
DTSTART;VALUE=DATE:20210317
DTEND;VALUE=DATE:20210318
DTSTAMP:20260423T001520
CREATED:20210219T094637Z
LAST-MODIFIED:20210219T094637Z
UID:4913-1615939200-1616025599@www.spaarnecollege.nl
SUMMARY:Webinar ouders/verzorgers klas 3
DESCRIPTION:
URL:https://www.spaarnecollege.nl/agenda/webinar-ouders-verzorgers-klas-3/
END:VEVENT
BEGIN:VEVENT
DTSTART;TZID=Europe/Amsterdam:20201211T080000
DTEND;TZID=Europe/Amsterdam:20201211T170000
DTSTAMP:20260423T001520
CREATED:20201022T101554Z
LAST-MODIFIED:20201022T101554Z
UID:2948-1607673600-1607706000@www.spaarnecollege.nl
SUMMARY:Paarse vrijdag
DESCRIPTION:
URL:https://www.spaarnecollege.nl/agenda/paarse-vrijdag/
CATEGORIES:Alle leerjaren,Feestelijke activiteiten
END:VEVENT
BEGIN:VEVENT
DTSTART;TZID=Europe/Amsterdam:20201130T080000
DTEND;TZID=Europe/Amsterdam:20201130T170000
DTSTAMP:20260423T001520
CREATED:20201112T154007Z
LAST-MODIFIED:20201112T154007Z
UID:3309-1606723200-1606755600@www.spaarnecollege.nl
SUMMARY:Start PPO 4e blok
DESCRIPTION:
URL:https://www.spaarnecollege.nl/agenda/start-ppo-4e-blok/
CATEGORIES:Leerjaar 4
END:VEVENT
BEGIN:VEVENT
DTSTART;TZID=Europe/Amsterdam:20201123T080000
DTEND;TZID=Europe/Amsterdam:20201127T170000
DTSTAMP:20260423T001520
CREATED:20201112T150706Z
LAST-MODIFIED:20201112T150706Z
UID:3307-1606118400-1606496400@www.spaarnecollege.nl
SUMMARY:Herkansingen PTA toetsen
DESCRIPTION:
URL:https://www.spaarnecollege.nl/agenda/herkansingen-pta-toetsen/
CATEGORIES:Leerjaar 3,Leerjaar 4
END:VEVENT
BEGIN:VEVENT
DTSTART;TZID=Europe/Amsterdam:20201119T150000
DTEND;TZID=Europe/Amsterdam:20201119T160000
DTSTAMP:20260423T001520
CREATED:20201022T100557Z
LAST-MODIFIED:20201022T100625Z
UID:2943-1605798000-1605801600@www.spaarnecollege.nl
SUMMARY:Proefstuderen leerjaar 4
DESCRIPTION:
URL:https://www.spaarnecollege.nl/agenda/proefstuderen-leerjaar-4/2020-11-19/
CATEGORIES:Leerjaar 4
END:VEVENT
BEGIN:VEVENT
DTSTART;TZID=Europe/Amsterdam:20201102T080000
DTEND;TZID=Europe/Amsterdam:20201106T170000
DTSTAMP:20260423T001520
CREATED:20201022T103716Z
LAST-MODIFIED:20201022T103716Z
UID:2957-1604304000-1604682000@www.spaarnecollege.nl
SUMMARY:Spaarne weken
DESCRIPTION:
URL:https://www.spaarnecollege.nl/agenda/spaarne-weken/
CATEGORIES:Alle leerjaren
END:VEVENT
BEGIN:VEVENT
DTSTART;VALUE=DATE:20200820
DTEND;VALUE=DATE:20200821
DTSTAMP:20260423T001520
CREATED:20200702T071858Z
LAST-MODIFIED:20200702T080055Z
UID:2013-1597881600-1597967999@www.spaarnecollege.nl
SUMMARY:Start schooljaar 2020-2021
DESCRIPTION:
URL:https://www.spaarnecollege.nl/agenda/start-schooljaar-2020-2021/
CATEGORIES:Alle leerjaren
END:VEVENT
END:VCALENDAR