BEGIN:VCALENDAR
VERSION:2.0
PRODID:-//Spaarne College - ECPv6.8.2//NONSGML v1.0//EN
CALSCALE:GREGORIAN
METHOD:PUBLISH
X-ORIGINAL-URL:https://www.spaarnecollege.nl
X-WR-CALDESC:Evenementen voor Spaarne College
REFRESH-INTERVAL;VALUE=DURATION:PT1H
X-Robots-Tag:noindex
X-PUBLISHED-TTL:PT1H
BEGIN:VTIMEZONE
TZID:Europe/Amsterdam
BEGIN:DAYLIGHT
TZOFFSETFROM:+0100
TZOFFSETTO:+0200
TZNAME:CEST
DTSTART:20240331T010000
END:DAYLIGHT
BEGIN:STANDARD
TZOFFSETFROM:+0200
TZOFFSETTO:+0100
TZNAME:CET
DTSTART:20241027T010000
END:STANDARD
BEGIN:DAYLIGHT
TZOFFSETFROM:+0100
TZOFFSETTO:+0200
TZNAME:CEST
DTSTART:20250330T010000
END:DAYLIGHT
BEGIN:STANDARD
TZOFFSETFROM:+0200
TZOFFSETTO:+0100
TZNAME:CET
DTSTART:20251026T010000
END:STANDARD
END:VTIMEZONE
BEGIN:VEVENT
DTSTART;TZID=Europe/Amsterdam:20240917T190000
DTEND;TZID=Europe/Amsterdam:20240917T213000
DTSTAMP:20260424T005116
CREATED:20230724T125231Z
LAST-MODIFIED:20240711T124738Z
UID:12825-1726599600-1726608600@www.spaarnecollege.nl
SUMMARY:Informatieavond leerjaar 1
DESCRIPTION:Op deze dag vindt de informatieavond voor ouders van leerjaar 1-leerlingen plaats.
URL:https://www.spaarnecollege.nl/agenda/informatieavond-leerjaar-1/
LOCATION:Spaarne College
CATEGORIES:Leerjaar 1
END:VEVENT
BEGIN:VEVENT
DTSTART;TZID=Europe/Amsterdam:20240918T190000
DTEND;TZID=Europe/Amsterdam:20240918T203000
DTSTAMP:20260424T005116
CREATED:20230724T125441Z
LAST-MODIFIED:20240711T124509Z
UID:12829-1726686000-1726691400@www.spaarnecollege.nl
SUMMARY:Informatieavond leerjaar 3
DESCRIPTION:Op deze dag vindt de informatieavond voor ouders van leerjaar 3-leerlingen plaats.
URL:https://www.spaarnecollege.nl/agenda/informatieavond-leerjaar-3/
LOCATION:Spaarne College
CATEGORIES:Leerjaar 3
END:VEVENT
BEGIN:VEVENT
DTSTART;TZID=Europe/Amsterdam:20240924T190000
DTEND;TZID=Europe/Amsterdam:20240924T203000
DTSTAMP:20260424T005116
CREATED:20230724T125327Z
LAST-MODIFIED:20240711T124610Z
UID:12827-1727204400-1727209800@www.spaarnecollege.nl
SUMMARY:Informatieavond leerjaar 2
DESCRIPTION:Op deze dag vindt de informatieavond voor ouders van leerjaar 2-leerlingen plaats.
URL:https://www.spaarnecollege.nl/agenda/informatieavond-leerjaar-2/
LOCATION:Spaarne College
CATEGORIES:Leerjaar 2
END:VEVENT
BEGIN:VEVENT
DTSTART;TZID=Europe/Amsterdam:20241119T150000
DTEND;TZID=Europe/Amsterdam:20241119T163000
DTSTAMP:20260424T005116
CREATED:20201022T100236Z
LAST-MODIFIED:20240711T125335Z
UID:12952-1732028400-1732033800@www.spaarnecollege.nl
SUMMARY:Proeflesmiddag
DESCRIPTION:Dit schooljaar organiseren wij op dinsdag 19 november (15:00 – 16:30 uur) én op donderdag 21 november (15:00 – 16:30 uur) proeflesmiddagen. Meld je aan voor de proeflesmiddag.
URL:https://www.spaarnecollege.nl/agenda/proeflesmiddag-2024-11-21/2024-11-19/
LOCATION:Spaarne College
CATEGORIES:groep 8
END:VEVENT
BEGIN:VEVENT
DTSTART;TZID=Europe/Amsterdam:20241121T150000
DTEND;TZID=Europe/Amsterdam:20241121T163000
DTSTAMP:20260424T005116
CREATED:20201022T100236Z
LAST-MODIFIED:20240711T125519Z
UID:2940-1732201200-1732206600@www.spaarnecollege.nl
SUMMARY:Proeflesmiddag
DESCRIPTION:Dit schooljaar organiseren wij op dinsdag 19 november (15:00 – 16:30 uur) én op donderdag 21 november (15:00 – 16:30 uur) proeflesmiddagen. Meld je aan voor de proeflesmiddag.
URL:https://www.spaarnecollege.nl/agenda/proeflesmiddag-2024-11-21/2024-11-21/
LOCATION:Spaarne College
CATEGORIES:groep 8
END:VEVENT
BEGIN:VEVENT
DTSTART;VALUE=DATE:20250108
DTEND;VALUE=DATE:20250109
DTSTAMP:20260424T005116
CREATED:20250818T141657Z
LAST-MODIFIED:20250828T134816Z
UID:13107-1736294400-1736380799@www.spaarnecollege.nl
SUMMARY:LOB op de campus
DESCRIPTION:
URL:https://www.spaarnecollege.nl/agenda/lob-op-de-campus/
CATEGORIES:Leerjaar 2
END:VEVENT
BEGIN:VEVENT
DTSTART;TZID=Europe/Amsterdam:20250226T170000
DTEND;TZID=Europe/Amsterdam:20250226T190000
DTSTAMP:20260424T005116
CREATED:20250210T153036Z
LAST-MODIFIED:20250304T155211Z
UID:17167-1740589200-1740596400@www.spaarnecollege.nl
SUMMARY:Restaurantavond
DESCRIPTION:Mogen wij u binnenkort verwelkomen in ons schoolrestaurant? Waar onze vierdejaars leerlingen van het profiel Horeca\, Bakkerij en Recreatie voor u zullen koken en u zullen bedienen. Wij zien uw reservering graag tegemoet.
URL:https://www.spaarnecollege.nl/agenda/restaurantavond/2025-02-26/
CATEGORIES:Feestelijke activiteiten
ATTACH;FMTTYPE=image/jpeg:https://www.spaarnecollege.nl/wp-content/uploads/2025/02/SpaarneRestaurant-121.jpg
END:VEVENT
BEGIN:VEVENT
DTSTART;TZID=Europe/Amsterdam:20250305T170000
DTEND;TZID=Europe/Amsterdam:20250305T190000
DTSTAMP:20260424T005116
CREATED:20250210T153036Z
LAST-MODIFIED:20250210T153036Z
UID:17332-1741194000-1741201200@www.spaarnecollege.nl
SUMMARY:Restaurantavond
DESCRIPTION:Mogen wij u binnenkort verwelkomen in ons schoolrestaurant? Waar onze vierdejaars leerlingen van het profiel Horeca\, Bakkerij en Recreatie voor u zullen koken en u zullen bedienen. Wij zien uw reservering graag tegemoet.
URL:https://www.spaarnecollege.nl/agenda/restaurantavond/2025-03-05/
CATEGORIES:Feestelijke activiteiten
ATTACH;FMTTYPE=image/jpeg:https://www.spaarnecollege.nl/wp-content/uploads/2025/02/SpaarneRestaurant-121.jpg
END:VEVENT
BEGIN:VEVENT
DTSTART;TZID=Europe/Amsterdam:20250310T080000
DTEND;TZID=Europe/Amsterdam:20250314T170000
DTSTAMP:20260424T005116
CREATED:20250304T155504Z
LAST-MODIFIED:20250304T155504Z
UID:17334-1741593600-1741971600@www.spaarnecollege.nl
SUMMARY:Mogelijkheid inhalen cito 2
DESCRIPTION:Mogelijkheid om cito 2 in te halen voor leerlingen uit leerjaar 2.
URL:https://www.spaarnecollege.nl/agenda/mogelijkheid-inhalen-cito-2/
CATEGORIES:Leerjaar 2
END:VEVENT
BEGIN:VEVENT
DTSTART;TZID=Europe/Amsterdam:20250310T080000
DTEND;TZID=Europe/Amsterdam:20250328T170000
DTSTAMP:20260424T005116
CREATED:20250304T155702Z
LAST-MODIFIED:20250304T155702Z
UID:17336-1741593600-1743181200@www.spaarnecollege.nl
SUMMARY:Inschrijven voor meilessen (examentraining)
DESCRIPTION:Vanaf maandag 10 maart tot en met vrijdag 28 maart kunnen examenleerlingen zich inschrijven voor de meilessen die plaatsvinden in de meivakantie. Ter voorbereiding op het centraal examen.
URL:https://www.spaarnecollege.nl/agenda/inschrijven-voor-meilessen-examentraining/
CATEGORIES:Eindexamen
END:VEVENT
BEGIN:VEVENT
DTSTART;TZID=Europe/Amsterdam:20250311T183000
DTEND;TZID=Europe/Amsterdam:20250311T193000
DTSTAMP:20260424T005116
CREATED:20250210T155521Z
LAST-MODIFIED:20250306T130437Z
UID:17171-1741717800-1741721400@www.spaarnecollege.nl
SUMMARY:Ouderavond examens
DESCRIPTION:
URL:https://www.spaarnecollege.nl/agenda/ouderavond-examens/
CATEGORIES:Eindexamen,Leerjaar 4
END:VEVENT
BEGIN:VEVENT
DTSTART;TZID=Europe/Amsterdam:20250312T170000
DTEND;TZID=Europe/Amsterdam:20250312T190000
DTSTAMP:20260424T005116
CREATED:20250210T153036Z
LAST-MODIFIED:20250210T153036Z
UID:17333-1741798800-1741806000@www.spaarnecollege.nl
SUMMARY:Restaurantavond
DESCRIPTION:Mogen wij u binnenkort verwelkomen in ons schoolrestaurant? Waar onze vierdejaars leerlingen van het profiel Horeca\, Bakkerij en Recreatie voor u zullen koken en u zullen bedienen. Wij zien uw reservering graag tegemoet.
URL:https://www.spaarnecollege.nl/agenda/restaurantavond/2025-03-12/
CATEGORIES:Feestelijke activiteiten
ATTACH;FMTTYPE=image/jpeg:https://www.spaarnecollege.nl/wp-content/uploads/2025/02/SpaarneRestaurant-121.jpg
END:VEVENT
BEGIN:VEVENT
DTSTART;TZID=Europe/Amsterdam:20250325T080000
DTEND;TZID=Europe/Amsterdam:20250331T170000
DTSTAMP:20260424T005116
CREATED:20240715T124915Z
LAST-MODIFIED:20240715T124915Z
UID:15329-1742889600-1743440400@www.spaarnecollege.nl
SUMMARY:Aanmeldweek leerlingen schooljaar '25-'26
DESCRIPTION:Wat leuk dat jij je bij ons op school wilt aanmelden. Dat kan in deze week (25 maart t/m 31 maart 2025). \nOp deze pagina lees je meer over ons aanmeldproces. \nHeb je nog vragen of onduidelijkheden? Bezoek een van onze informatieavonden\, proeflesmiddagen of open dagen óf neem contact op met onze school.
URL:https://www.spaarnecollege.nl/agenda/aanmeldweek-leerlingen-schooljaar-25-26/
CATEGORIES:groep 8
END:VEVENT
BEGIN:VEVENT
DTSTART;TZID=Europe/Amsterdam:20250402T193000
DTEND;TZID=Europe/Amsterdam:20250402T210000
DTSTAMP:20260424T005116
CREATED:20250304T160330Z
LAST-MODIFIED:20250304T160800Z
UID:17339-1743622200-1743627600@www.spaarnecollege.nl
SUMMARY:Ouderavond 'Welbevinden'
DESCRIPTION:Wij willen u van harte uitnodigen voor een interactieve en inspirerende ouderavond over mentale gezondheid. Deze zal plaatsvinden op dinsdag 2 april op het Spaarne College en wordt georganiseerd voor alle ouders van onze leerlingen. Samen met Kikid en hun team van jongerenexperts (18-25 jaar) gaan we in gesprek over de uitdagingen en belevingen van jongeren. Dankzij hun dagelijkse interactie met leerlingen weten zij als geen ander wat er speelt. \nTijdens deze avond combineren we kennis\, beleving en interactie:\n✅ Kennis: De nieuwste feiten en cijfers over de leefwereld van jongeren.\n🎭 Beleving: Theaterscènes over herkenbare situaties waarmee jongeren dagelijks te maken krijgen.\n💬 Interactie: Ruimte om vragen te stellen en in gesprek te gaan met school en het Kikid-team. \n📅  Datum: Dinsdag 2 april\n       Locatie: Spaarne College\n⏰  Inloop met koffie/thee: 19.15 uur\n🎭  Programma: 19.30 – 21.00 uur\n🍹  Napraten met hapje/ drankje: 21.00-21.30 uur\n🔹   Aanmelden: Stuur uiterlijk vrijdag 28 maart een e-mail naar info@spaarnecollege.nl en geef hierbij aan met hoeveel personen u komt en geef (indien bekend) de naam en klas van uw kind(eren) door.
URL:https://www.spaarnecollege.nl/agenda/ouderavond-welbevinden/
CATEGORIES:Alle leerjaren
END:VEVENT
BEGIN:VEVENT
DTSTART;TZID=Europe/Amsterdam:20250409T160000
DTEND;TZID=Europe/Amsterdam:20250409T173000
DTSTAMP:20260424T005116
CREATED:20250304T160616Z
LAST-MODIFIED:20250304T160641Z
UID:17341-1744214400-1744219800@www.spaarnecollege.nl
SUMMARY:Ouderadviesraad
DESCRIPTION:De ouderadviesraad vergadert vandaag van 16:00 tot 17:30 uur.
URL:https://www.spaarnecollege.nl/agenda/ouderadviesraad-2/2025-04-09/
CATEGORIES:Alle leerjaren
END:VEVENT
BEGIN:VEVENT
DTSTART;TZID=Europe/Amsterdam:20250513T080000
DTEND;TZID=Europe/Amsterdam:20250513T170000
DTSTAMP:20260424T005116
CREATED:20250310T153820Z
LAST-MODIFIED:20250310T153850Z
UID:17407-1747123200-1747155600@www.spaarnecollege.nl
SUMMARY:Carrière coach lj 3
DESCRIPTION:
URL:https://www.spaarnecollege.nl/agenda/carriere-coach-lj-3/2025-05-13/
CATEGORIES:Leerjaar 3
END:VEVENT
BEGIN:VEVENT
DTSTART;TZID=Europe/Amsterdam:20250515T080000
DTEND;TZID=Europe/Amsterdam:20250515T170000
DTSTAMP:20260424T005116
CREATED:20250310T153820Z
LAST-MODIFIED:20250310T153820Z
UID:17409-1747296000-1747328400@www.spaarnecollege.nl
SUMMARY:Carrière coach lj 3
DESCRIPTION:
URL:https://www.spaarnecollege.nl/agenda/carriere-coach-lj-3/2025-05-15/
CATEGORIES:Leerjaar 3
END:VEVENT
BEGIN:VEVENT
DTSTART;VALUE=DATE:20250529
DTEND;VALUE=DATE:20250531
DTSTAMP:20260424T005116
CREATED:20250116T093303Z
LAST-MODIFIED:20250512T075916Z
UID:3340-1748476800-1748649599@www.spaarnecollege.nl
SUMMARY:Hemelvaart
DESCRIPTION:Leerlingen zijn vrij op Hemelvaart en de vrijdag hierop volgend.
URL:https://www.spaarnecollege.nl/agenda/hemelvaart/2025-05-29/
LOCATION:Spaarne College
CATEGORIES:Alle leerjaren,Feestelijke activiteiten,Vakantie
END:VEVENT
BEGIN:VEVENT
DTSTART;VALUE=DATE:20250530
DTEND;VALUE=DATE:20250531
DTSTAMP:20260424T005116
CREATED:20250126T130844Z
LAST-MODIFIED:20250512T080017Z
UID:11899-1748563200-1748649599@www.spaarnecollege.nl
SUMMARY:Vrije dag
DESCRIPTION:Dit is een vrije dag voor leerlingen en medewerkers.
URL:https://www.spaarnecollege.nl/agenda/vrije-dag/2025-05-30/
LOCATION:Spaarne College
CATEGORIES:Alle leerjaren,Vakantie
END:VEVENT
BEGIN:VEVENT
DTSTART;TZID=Europe/Amsterdam:20250603T190000
DTEND;TZID=Europe/Amsterdam:20250603T203000
DTSTAMP:20260424T005116
CREATED:20250310T154713Z
LAST-MODIFIED:20250310T155444Z
UID:17412-1748977200-1748982600@www.spaarnecollege.nl
SUMMARY:Ouderavond buitenlandreis lj 3
DESCRIPTION:
URL:https://www.spaarnecollege.nl/agenda/ouderavond-buitenlandreis-lj-3/
CATEGORIES:Feestelijke activiteiten,Leerjaar 3
END:VEVENT
BEGIN:VEVENT
DTSTART;VALUE=DATE:20250609
DTEND;VALUE=DATE:20250610
DTSTAMP:20260424T005116
CREATED:20201116T093445Z
LAST-MODIFIED:20250911T114159Z
UID:3342-1749427200-1749513599@www.spaarnecollege.nl
SUMMARY:Pinksteren
DESCRIPTION:Vanwege tweede Pinksterdag is het Spaarne College gesloten.
URL:https://www.spaarnecollege.nl/agenda/pinksteren/2025-06-09/
LOCATION:Spaarne College
CATEGORIES:Alle leerjaren,Vakantie
END:VEVENT
BEGIN:VEVENT
DTSTART;TZID=Europe/Amsterdam:20250625T160000
DTEND;TZID=Europe/Amsterdam:20250625T173000
DTSTAMP:20260424T005116
CREATED:20250304T160616Z
LAST-MODIFIED:20250304T160616Z
UID:17343-1750867200-1750872600@www.spaarnecollege.nl
SUMMARY:Ouderadviesraad
DESCRIPTION:De ouderadviesraad vergadert vandaag van 16:00 tot 17:30 uur.
URL:https://www.spaarnecollege.nl/agenda/ouderadviesraad-2/2025-06-25/
CATEGORIES:Alle leerjaren
END:VEVENT
BEGIN:VEVENT
DTSTART;TZID=Europe/Amsterdam:20250630T080000
DTEND;TZID=Europe/Amsterdam:20250704T170000
DTSTAMP:20260424T005116
CREATED:20250107T105956Z
LAST-MODIFIED:20250512T074845Z
UID:13663-1751270400-1751648400@www.spaarnecollege.nl
SUMMARY:Spaarne week 4
DESCRIPTION:In de Spaarne weken worden er diverse (buitenschoolse)activiteiten georganiseerd. In de bovenbouw worden er daarnaast ook toetsen afgenomen. Meer informatie volgt t.z.t.
URL:https://www.spaarnecollege.nl/agenda/spaarne-week-4/2025-06-30/
CATEGORIES:Alle leerjaren,Feestelijke activiteiten
END:VEVENT
BEGIN:VEVENT
DTSTART;TZID=Europe/Amsterdam:20250708T083000
DTEND;TZID=Europe/Amsterdam:20250708T091500
DTSTAMP:20260424T005116
CREATED:20240227T131319Z
LAST-MODIFIED:20250414T150156Z
UID:14429-1751963400-1751966100@www.spaarnecollege.nl
SUMMARY:Uitdelen rapporten
DESCRIPTION:Vandaag worden de rapporten uitgedeeld aan leerlingen uit leerjaar 1.
URL:https://www.spaarnecollege.nl/agenda/uitdelen-rapporten/
CATEGORIES:Leerjaar 1
END:VEVENT
BEGIN:VEVENT
DTSTART;VALUE=DATE:20250712
DTEND;VALUE=DATE:20250825
DTSTAMP:20260424T005116
CREATED:20240603T110446Z
LAST-MODIFIED:20250512T080141Z
UID:15052-1752278400-1756079999@www.spaarnecollege.nl
SUMMARY:Zomervakantie
DESCRIPTION:
URL:https://www.spaarnecollege.nl/agenda/zomervakantie/
LOCATION:Spaarne College
CATEGORIES:Alle leerjaren,Vakantie
END:VEVENT
BEGIN:VEVENT
DTSTART;TZID=Europe/Amsterdam:20250922T080000
DTEND;TZID=Europe/Amsterdam:20250926T170000
DTSTAMP:20260424T005116
CREATED:20250828T122003Z
LAST-MODIFIED:20250828T122003Z
UID:18358-1758528000-1758906000@www.spaarnecollege.nl
SUMMARY:Week tegen pesten
DESCRIPTION:Veiligheid staat bij ons op school hoog op de agenda. Natuurlijk doen wij dan ook dit jaar weer mee aan de Week tegen Pesten! Tijdens en buiten de (mentor)lessen om staan wij gedurende het hele jaar door stil bij veiligheid in de klas en bij het thema ‘jezelf kunnen zijn’. Ook bieden wij trainingen om goed in je vel te zitten en meer. In de week tegen pesten staan we met elkaar nog even extra stil bij deze thema’s.
URL:https://www.spaarnecollege.nl/agenda/week-tegen-pesten/
CATEGORIES:Alle leerjaren
END:VEVENT
BEGIN:VEVENT
DTSTART;TZID=Europe/Amsterdam:20250924T080000
DTEND;TZID=Europe/Amsterdam:20250925T170000
DTSTAMP:20260424T005116
CREATED:20250828T122231Z
LAST-MODIFIED:20250828T122335Z
UID:18361-1758700800-1758819600@www.spaarnecollege.nl
SUMMARY:Schoolfotograaf
DESCRIPTION:Op woensdag 24 en donderdag 25 september komt de schoolfotograaf langs om van iedereen een (groeps)foto te maken. Vrijdag 17 oktober vindt er nog een laatste inhaalsessie plaats voor leerlingen die 24 of 25 september afwezig waren.
URL:https://www.spaarnecollege.nl/agenda/schoolfotograaf/
CATEGORIES:Alle leerjaren
END:VEVENT
BEGIN:VEVENT
DTSTART;TZID=Europe/Amsterdam:20251007T143000
DTEND;TZID=Europe/Amsterdam:20251007T153000
DTSTAMP:20260424T005116
CREATED:20250911T112557Z
LAST-MODIFIED:20250911T112702Z
UID:18566-1759847400-1759851000@www.spaarnecollege.nl
SUMMARY:Spaarne Influencers
DESCRIPTION:De onder- en bovenbouw leden van de Spaarne Influencers komen vandaag samen om te praten over aankomende evenementen\, hun rol hierin en zij brainstormen over nieuwe ideeën om de school net een beetje leuker\, fijner en mooier te maken.
URL:https://www.spaarnecollege.nl/agenda/spaarne-influencers/2025-10-07/
CATEGORIES:Alle leerjaren
END:VEVENT
BEGIN:VEVENT
DTSTART;VALUE=DATE:20251018
DTEND;VALUE=DATE:20251027
DTSTAMP:20260424T005116
CREATED:20250603T103028Z
LAST-MODIFIED:20250512T075246Z
UID:15042-1760745600-1761523199@www.spaarnecollege.nl
SUMMARY:Herfstvakantie
DESCRIPTION:
URL:https://www.spaarnecollege.nl/agenda/herfstvakantie-2/
LOCATION:Spaarne College
CATEGORIES:Alle leerjaren,Vakantie
END:VEVENT
BEGIN:VEVENT
DTSTART;TZID=Europe/Amsterdam:20251030T190000
DTEND;TZID=Europe/Amsterdam:20251030T203000
DTSTAMP:20260424T005116
CREATED:20250828T123213Z
LAST-MODIFIED:20250911T111554Z
UID:18364-1761850800-1761856200@www.spaarnecollege.nl
SUMMARY:Halloween filmavond lj 1
DESCRIPTION:De Spaarne Influencers organiseren op deze avond een gezellige halloween filmavond voor eerstejaars leerlingen. Volledig in klederdracht en qua aankleding.
URL:https://www.spaarnecollege.nl/agenda/halloween-filmavond/
CATEGORIES:Feestelijke activiteiten,Leerjaar 1
END:VEVENT
END:VCALENDAR