BEGIN:VCALENDAR
VERSION:2.0
PRODID:-//Spaarne College - ECPv6.8.2//NONSGML v1.0//EN
CALSCALE:GREGORIAN
METHOD:PUBLISH
X-WR-CALNAME:Spaarne College
X-ORIGINAL-URL:https://www.spaarnecollege.nl
X-WR-CALDESC:Evenementen voor Spaarne College
REFRESH-INTERVAL;VALUE=DURATION:PT1H
X-Robots-Tag:noindex
X-PUBLISHED-TTL:PT1H
BEGIN:VTIMEZONE
TZID:Europe/Amsterdam
BEGIN:DAYLIGHT
TZOFFSETFROM:+0100
TZOFFSETTO:+0200
TZNAME:CEST
DTSTART:20260329T010000
END:DAYLIGHT
BEGIN:STANDARD
TZOFFSETFROM:+0200
TZOFFSETTO:+0100
TZNAME:CET
DTSTART:20261025T010000
END:STANDARD
END:VTIMEZONE
BEGIN:VEVENT
DTSTART;VALUE=DATE:20260415
DTEND;VALUE=DATE:20260422
DTSTAMP:20260421T014414
CREATED:20250507T090742Z
LAST-MODIFIED:20260114T080947Z
UID:13642-1776211200-1776815999@www.spaarnecollege.nl
SUMMARY:Spaarne week 3
DESCRIPTION:In de Spaarne weken worden er diverse (buitenschoolse)activiteiten georganiseerd. In de bovenbouw worden er daarnaast ook toetsen afgenomen. Meer informatie volgt t.z.t.
URL:https://www.spaarnecollege.nl/agenda/spaarne-week-3/
CATEGORIES:Alle leerjaren
END:VEVENT
BEGIN:VEVENT
DTSTART;TZID=Europe/Amsterdam:20260421T080000
DTEND;TZID=Europe/Amsterdam:20260421T170000
DTSTAMP:20260421T014414
CREATED:20250826T144341Z
LAST-MODIFIED:20250911T113327Z
UID:14424-1776758400-1776790800@www.spaarnecollege.nl
SUMMARY:Walibi lj 4
DESCRIPTION:Leerlingen uit leerjaar 4 zullen vóór de eindexamens nog gezellig een dagje met elkaar naar Walibi gaan. Meer informatie volgt te zijner tijd.
URL:https://www.spaarnecollege.nl/agenda/walibi-lj-4/
CATEGORIES:Feestelijke activiteiten,Leerjaar 4
END:VEVENT
END:VCALENDAR