BEGIN:VCALENDAR
VERSION:2.0
PRODID:-//Spaarne College - ECPv6.8.2//NONSGML v1.0//EN
CALSCALE:GREGORIAN
METHOD:PUBLISH
X-ORIGINAL-URL:https://www.spaarnecollege.nl
X-WR-CALDESC:Evenementen voor Spaarne College
REFRESH-INTERVAL;VALUE=DURATION:PT1H
X-Robots-Tag:noindex
X-PUBLISHED-TTL:PT1H
BEGIN:VTIMEZONE
TZID:Europe/Amsterdam
BEGIN:DAYLIGHT
TZOFFSETFROM:+0100
TZOFFSETTO:+0200
TZNAME:CEST
DTSTART:20250330T010000
END:DAYLIGHT
BEGIN:STANDARD
TZOFFSETFROM:+0200
TZOFFSETTO:+0100
TZNAME:CET
DTSTART:20251026T010000
END:STANDARD
END:VTIMEZONE
BEGIN:VEVENT
DTSTART;TZID=Europe/Amsterdam:20250513T080000
DTEND;TZID=Europe/Amsterdam:20250513T170000
DTSTAMP:20260421T131328
CREATED:20250310T153820Z
LAST-MODIFIED:20250310T153850Z
UID:17407-1747123200-1747155600@www.spaarnecollege.nl
SUMMARY:Carrière coach lj 3
DESCRIPTION:
URL:https://www.spaarnecollege.nl/agenda/carriere-coach-lj-3/2025-05-13/
CATEGORIES:Leerjaar 3
END:VEVENT
END:VCALENDAR