BEGIN:VCALENDAR
VERSION:2.0
PRODID:-//Spaarne College - ECPv6.8.2//NONSGML v1.0//EN
CALSCALE:GREGORIAN
METHOD:PUBLISH
X-WR-CALNAME:Spaarne College
X-ORIGINAL-URL:https://www.spaarnecollege.nl
X-WR-CALDESC:Evenementen voor Spaarne College
REFRESH-INTERVAL;VALUE=DURATION:PT1H
X-Robots-Tag:noindex
X-PUBLISHED-TTL:PT1H
BEGIN:VTIMEZONE
TZID:Europe/Amsterdam
BEGIN:DAYLIGHT
TZOFFSETFROM:+0100
TZOFFSETTO:+0200
TZNAME:CEST
DTSTART:20250330T010000
END:DAYLIGHT
BEGIN:STANDARD
TZOFFSETFROM:+0200
TZOFFSETTO:+0100
TZNAME:CET
DTSTART:20251026T010000
END:STANDARD
END:VTIMEZONE
BEGIN:VEVENT
DTSTART;VALUE=DATE:20250108
DTEND;VALUE=DATE:20250109
DTSTAMP:20260423T172938
CREATED:20250818T141657Z
LAST-MODIFIED:20250828T134816Z
UID:13107-1736294400-1736380799@www.spaarnecollege.nl
SUMMARY:LOB op de campus
DESCRIPTION:
URL:https://www.spaarnecollege.nl/agenda/lob-op-de-campus/
CATEGORIES:Leerjaar 2
END:VEVENT
END:VCALENDAR