BEGIN:VCALENDAR
VERSION:2.0
PRODID:-//Spaarne College - ECPv6.8.2//NONSGML v1.0//EN
CALSCALE:GREGORIAN
METHOD:PUBLISH
X-ORIGINAL-URL:https://www.spaarnecollege.nl
X-WR-CALDESC:Evenementen voor Spaarne College
REFRESH-INTERVAL;VALUE=DURATION:PT1H
X-Robots-Tag:noindex
X-PUBLISHED-TTL:PT1H
BEGIN:VTIMEZONE
TZID:Europe/Amsterdam
BEGIN:DAYLIGHT
TZOFFSETFROM:+0100
TZOFFSETTO:+0200
TZNAME:CEST
DTSTART:20240331T010000
END:DAYLIGHT
BEGIN:STANDARD
TZOFFSETFROM:+0200
TZOFFSETTO:+0100
TZNAME:CET
DTSTART:20241027T010000
END:STANDARD
END:VTIMEZONE
BEGIN:VEVENT
DTSTART;TZID=Europe/Amsterdam:20240716T100000
DTEND;TZID=Europe/Amsterdam:20240716T110000
DTSTAMP:20260424T042428
CREATED:20230508T132447Z
LAST-MODIFIED:20240422T115933Z
UID:12556-1721124000-1721127600@www.spaarnecollege.nl
SUMMARY:Rapporten uitdelen + afsluiten schooljaar
DESCRIPTION:Op dinsdag 16 juli kunnen onze leerlingen hun boeken weer in komen leveren. Daarnaast worden die dag de rapporten uitgedeeld. Meer informatie hierover zal per post worden meegedeeld.
URL:https://www.spaarnecollege.nl/agenda/rapporten-uitdelen/
CATEGORIES:Leerjaar 1,Leerjaar 2,Leerjaar 3
END:VEVENT
END:VCALENDAR