BEGIN:VCALENDAR
VERSION:2.0
PRODID:-//Spaarne College - ECPv6.8.2//NONSGML v1.0//EN
CALSCALE:GREGORIAN
METHOD:PUBLISH
X-ORIGINAL-URL:https://www.spaarnecollege.nl
X-WR-CALDESC:Evenementen voor Spaarne College
REFRESH-INTERVAL;VALUE=DURATION:PT1H
X-Robots-Tag:noindex
X-PUBLISHED-TTL:PT1H
BEGIN:VTIMEZONE
TZID:Europe/Amsterdam
BEGIN:DAYLIGHT
TZOFFSETFROM:+0100
TZOFFSETTO:+0200
TZNAME:CEST
DTSTART:20240331T010000
END:DAYLIGHT
BEGIN:STANDARD
TZOFFSETFROM:+0200
TZOFFSETTO:+0100
TZNAME:CET
DTSTART:20241027T010000
END:STANDARD
END:VTIMEZONE
BEGIN:VEVENT
DTSTART;TZID=Europe/Amsterdam:20240626T160000
DTEND;TZID=Europe/Amsterdam:20240626T173000
DTSTAMP:20260424T062241
CREATED:20230918T142000Z
LAST-MODIFIED:20230918T142105Z
UID:13113-1719417600-1719423000@www.spaarnecollege.nl
SUMMARY:Ouderadviesraad
DESCRIPTION:De ouderadviesraad vergadert vandaag van 16:00 tot 17:30 uur.
URL:https://www.spaarnecollege.nl/agenda/ouderadviesraad/2024-06-26/
CATEGORIES:Alle leerjaren
END:VEVENT
END:VCALENDAR