BEGIN:VCALENDAR
VERSION:2.0
PRODID:-//Spaarne College - ECPv6.8.2//NONSGML v1.0//EN
CALSCALE:GREGORIAN
METHOD:PUBLISH
X-WR-CALNAME:Spaarne College
X-ORIGINAL-URL:https://www.spaarnecollege.nl
X-WR-CALDESC:Evenementen voor Spaarne College
REFRESH-INTERVAL;VALUE=DURATION:PT1H
X-Robots-Tag:noindex
X-PUBLISHED-TTL:PT1H
BEGIN:VTIMEZONE
TZID:Europe/Amsterdam
BEGIN:DAYLIGHT
TZOFFSETFROM:+0100
TZOFFSETTO:+0200
TZNAME:CEST
DTSTART:20240331T010000
END:DAYLIGHT
BEGIN:STANDARD
TZOFFSETFROM:+0200
TZOFFSETTO:+0100
TZNAME:CET
DTSTART:20241027T010000
END:STANDARD
END:VTIMEZONE
BEGIN:VEVENT
DTSTART;TZID=Europe/Amsterdam:20240611T080000
DTEND;TZID=Europe/Amsterdam:20240613T170000
DTSTAMP:20260424T062206
CREATED:20210831T065514Z
LAST-MODIFIED:20240523T075153Z
UID:6521-1718092800-1718298000@www.spaarnecollege.nl
SUMMARY:Cito 1
DESCRIPTION:Op dinsdag 11 t/m donderdag 13 juni vindt Cito 1 plaats voor alle leerlingen uit het eerste leerjaar. Meer informatie volgt te zijner tijd.
URL:https://www.spaarnecollege.nl/agenda/cito-1/
CATEGORIES:Leerjaar 1
END:VEVENT
BEGIN:VEVENT
DTSTART;TZID=Europe/Amsterdam:20240611T143000
DTEND;TZID=Europe/Amsterdam:20240611T153000
DTSTAMP:20260424T062206
CREATED:20231107T100207Z
LAST-MODIFIED:20250911T112114Z
UID:14675-1718116200-1718119800@www.spaarnecollege.nl
SUMMARY:Spaarne Influencers bijeenkomst
DESCRIPTION:De onder- en bovenbouw leden van de Spaarne Influencers komen vandaag samen om te praten over aankomende evenementen\, hun rol hierin en zij brainstormen over nieuwe ideeën om de school net een beetje leuker\, fijner en mooier te maken.
URL:https://www.spaarnecollege.nl/agenda/spaarne-influencers-bijeenkomst/2024-06-11/
CATEGORIES:Alle leerjaren
END:VEVENT
END:VCALENDAR