BEGIN:VCALENDAR
VERSION:2.0
PRODID:-//Spaarne College - ECPv6.8.2//NONSGML v1.0//EN
CALSCALE:GREGORIAN
METHOD:PUBLISH
X-ORIGINAL-URL:https://www.spaarnecollege.nl
X-WR-CALDESC:Evenementen voor Spaarne College
REFRESH-INTERVAL;VALUE=DURATION:PT1H
X-Robots-Tag:noindex
X-PUBLISHED-TTL:PT1H
BEGIN:VTIMEZONE
TZID:Europe/Amsterdam
BEGIN:DAYLIGHT
TZOFFSETFROM:+0100
TZOFFSETTO:+0200
TZNAME:CEST
DTSTART:20240331T010000
END:DAYLIGHT
BEGIN:STANDARD
TZOFFSETFROM:+0200
TZOFFSETTO:+0100
TZNAME:CET
DTSTART:20241027T010000
END:STANDARD
END:VTIMEZONE
BEGIN:VEVENT
DTSTART;TZID=Europe/Amsterdam:20240425T170000
DTEND;TZID=Europe/Amsterdam:20240425T200000
DTSTAMP:20260424T095217
CREATED:20231107T102723Z
LAST-MODIFIED:20240227T141423Z
UID:13655-1714064400-1714075200@www.spaarnecollege.nl
SUMMARY:Barbecue lj 4
DESCRIPTION:Om de schoolcarrière mooi af te sluiten organiseren we voor leerjaar 4 vóór de eindexamens een barbecue.
URL:https://www.spaarnecollege.nl/agenda/barbecue-lj4/
CATEGORIES:Feestelijke activiteiten,Leerjaar 4
END:VEVENT
END:VCALENDAR